BEGIN:VCALENDAR
VERSION:2.0
PRODID:-//Plone.org//NONSGML plone.app.event//EN
X-WR-TIMEZONE:Europe/Rome
BEGIN:VEVENT
SUMMARY:Evento 1
DTSTART;TZID=Europe/Rome:20230303T150000
DTEND;TZID=Europe/Rome:20230303T173000
DTSTAMP:20260422T225942Z
UID:ca661d49ebc742e3bd6ef2b2c8144ec9@localhost:6081
CREATED:20230223T153628Z
DESCRIPTION:Descrizione primo evento
LAST-MODIFIED:20251211T144344Z
LOCATION:Sala Florio\, Palazzo Florio Via Palladio\, 8 Udine
URL:https://dill.uniud.it/it/manual-links/events/evento-1
END:VEVENT
BEGIN:VTIMEZONE
TZID:Europe/Rome
X-LIC-LOCATION:Europe/Rome
BEGIN:STANDARD
DTSTART:20221030T020000
TZNAME:CET
TZOFFSETFROM:+0200
TZOFFSETTO:+0100
END:STANDARD
END:VTIMEZONE
END:VCALENDAR
