BEGIN:VCALENDAR
VERSION:2.0
PRODID:-//Plone.org//NONSGML plone.app.event//EN
X-WR-TIMEZONE:Europe/Rome
BEGIN:VEVENT
SUMMARY:Evento 4
DTSTART;TZID=Europe/Rome:20230303T150000
DTEND;TZID=Europe/Rome:20230303T173000
DTSTAMP:20260423T003930Z
UID:d8c3ffd3bccf49ebb3c87ac40bd9f9bd@localhost:6081
CREATED:20230223T153628Z
DESCRIPTION:Descrizione primo evento
LAST-MODIFIED:20230502T163708Z
LOCATION:Sala Florio\, Palazzo Florio Via Palladio\, 8 Udine
URL:https://dill.uniud.it/it/manual-links/events/evento4
END:VEVENT
BEGIN:VTIMEZONE
TZID:Europe/Rome
X-LIC-LOCATION:Europe/Rome
BEGIN:STANDARD
DTSTART:20221030T020000
TZNAME:CET
TZOFFSETFROM:+0200
TZOFFSETTO:+0100
END:STANDARD
END:VTIMEZONE
END:VCALENDAR
